BEGIN:VCALENDAR
VERSION:2.0
PRODID:-//hacksw/handcal//NONSGML v1.0//EN
BEGIN:VEVENT
DTSTAMP:20260424T144200Z
DTSTART:20260424T144200Z
DTEND:20260424T164200Z

SUMMARY:Emerald Nationals 2026 
DESCRIPTION:Event OverviewEmerald Nationals returns to Pensacola, Florida, from April 24 - 26, 2026 — hosted at the Pensacola Bay Center. This flagship three‑day championship brings together elite teams from across the country for outstanding performances, high-energy competition, and unforgettable moments set against a vibrant coastal backdrop.Awards & HighlightsAll participants will receive medals. All teams will be honored with an official championship banner, while first-place athletes will receive rings. Level Grand Champions will earn exclusive Victory Emerald Nationals Jackets—symbols of top-tier achievement earned on a national stage.VendorsVictory Athletic’s Pro ShopNo Limit SportswearBuild-A-BowtiqueJerry Hughes PhotographyCharming ChaceKendra ScottCheer BestiesSimply CheerWhy You Should CompeteEmerald Nationals delivers peak competition with real-time judging, storied rivalries, and a community feel right by the bay and only a short drive from nearby beaches. With national exposure, elite performance opportunities, and a high-quality production, this event is a highlight of the season for athletes and coaches alike.
END:VEVENT
END:VCALENDAR