BEGIN:VCALENDAR
VERSION:2.0
PRODID:-//hacksw/handcal//NONSGML v1.0//EN
BEGIN:VEVENT
DTSTAMP:20260526T183000Z
DTSTART:20260526T183000Z
DTEND:20260526T203000Z

SUMMARY:Escambia County High School Graduation 2026
DESCRIPTION:Ceremony Schedule:Tuesday, May 26, 2026 Pensacola High School @ 9:00amNorthview High School @ 12:15pmWest Florida High School @ 2:30pmEscambia High School @ 5:30pmWednesday, May 27, 2026 Tate High School @ 9:00amEscambia County Virtal @ 12:15pmPine Forest High School @ 2:30pmWashington High School @ 5:30pm
END:VEVENT
END:VCALENDAR