BEGIN:VCALENDAR
VERSION:2.0
PRODID:-//hacksw/handcal//NONSGML v1.0//EN
BEGIN:VEVENT
DTSTAMP:20260517T170000Z
DTSTART:20260517T170000Z
DTEND:20260517T190000Z

SUMMARY:Gulf Coast Press the Chest Community CPR Event
DESCRIPTION:The public is invited to learn the lifesaving skill of CPR at the Gulf Coast Press the Chest Community CPR Event on Sunday, May 17, 2026, from 1:00pm-3:00pm at the Pensacola Bay Center, 201 E. Gregory St, Pensacola, FL 32502. This FREE, community-wide CPR training event is open to all ages and aims to empower citizens with lifesaving skills that could make the difference in an emergency. Attendees will learn the latest recommendations and procedures from the American Heart Association, including hands-only CPR for adults, child CPR with breaths, and choking relief methods for both adults and children, as well as how to use automated external defibrillators, or AEDs. The Gulf Coast Press the Chest Community CPR Event will offer a fun, interactive environment led by local medical professionals and first responders.The Gulf Coast Press the Chest Community CPR Event is a collaborative effort between the following organizations:Escambia County EMSEscambia County Public SafetySanta Rosa County Public SafetyLifeguard Ambulance ServicesDistrict One EMS Council of Northwest FloridaHCA Florida West HospitalBaptist Health CareAscension Sacred HeartSanta Rosa Medical CenterAvive AEDRegister for the Gulf Coast Press the Chest Community CPR Event here. The first 500 registered attendees will receive a free American Heart Association CPR Training Kit.
END:VEVENT
END:VCALENDAR