BEGIN:VCALENDAR
VERSION:2.0
PRODID:-//hacksw/handcal//NONSGML v1.0//EN
BEGIN:VEVENT
DTSTAMP:20260513T210000Z
DTSTART:20260513T210000Z
DTEND:20260513T233000Z

SUMMARY:PSC Graduation Ceremony 2026
DESCRIPTION:Congratulations, Class of 2026!Learn more about applying to graduate, attire, ceremony protocol, invitations, guests, and parking here:  Pensacola State College Graduation Information   
END:VEVENT
END:VCALENDAR