BEGIN:VCALENDAR
VERSION:2.0
PRODID:-//hacksw/handcal//NONSGML v1.0//EN
BEGIN:VEVENT
DTSTAMP:20260529T220000Z
DTSTART:20260529T220000Z
DTEND:20260530T000000Z

SUMMARY:Santa Rosa County High School Graduation 2026
DESCRIPTION:Ceremony Schedule:Pace High School -11:00 amNavarre High School - 2:30pmGulf Breeze High School - 6:00 pm   
END:VEVENT
END:VCALENDAR