BEGIN:VCALENDAR
VERSION:2.0
PRODID:-//hacksw/handcal//NONSGML v1.0//EN
BEGIN:VEVENT
DTSTAMP:20250503T173000Z
DTSTART:20250503T173000Z
DTEND:20250503T193000Z

SUMMARY:UWF Spring 2025 Commencement Ceremonies 
DESCRIPTION:Congratulations, Class of 2025!The UWF Spring 2025 Commencement ceremonies will be held on Saturday, May 3, 2025, at the Pensacola Bay Center located at 201 E. Gregory Street in downtown Pensacola.  9:30 am - Undergraduate students onlyCollege of Arts, Social Sciences and Humanities (CASSH)Lewis Bear Jr. College of Buisness (LBJCOB)School of Education (SOE)1:30 pm - Undergraduate students onlyHal Marcus College of Science and Engineering (HMCSA)Usha Kundu, MD College of Health (UKCOH)5:30 pmGraduate School (Masters, Specialists, Doctorates)
END:VEVENT
END:VCALENDAR