BEGIN:VCALENDAR
VERSION:2.0
PRODID:-//hacksw/handcal//NONSGML v1.0//EN
BEGIN:VEVENT
DTSTAMP:20260502T213000Z
DTSTART:20260502T213000Z
DTEND:20260502T233000Z

SUMMARY:UWF Spring 2026 Commencement Ceremonies 
DESCRIPTION:Congratulations, Class of 2026!The UWF Spring 2025 Commencement ceremonies will be held on Saturday, May 2, 2026, at the Pensacola Bay Center located at 201 E. Gregory Street in downtown Pensacola.  9:30 am - Undergraduate students onlyCollege of Arts, Social Sciences and Humanities (CASSH)Usha Kundu, MD College of Health (UKCOH)1:30 pm - Undergraduate students onlyHal Marcus College of Science and Engineering (HMCSA)Lewis Bear Jr College of Business (LBJCOB)School of Education (SOE)5:30 pmGraduate School (Masters, Specialists, Doctorates)
END:VEVENT
END:VCALENDAR